BEGIN:VCALENDAR
PRODID:-//Hoodin AB//NONSGML Hoodin Smart Content Curator//EN
VERSION:2.0
BEGIN:VEVENT
UID:U1FTqP5MmxAZmHfwsRSZyBKLpqMo4aDj
CREATED:20190128T151721Z
DTSTAMP:20260419T151534Z
DTSTART:20190803T220059Z
DTEND:20190804T215959Z
DESCRIPTION:\nÖppet hus för alla de som är eller blir medlemmar i Bjärnums Fornminnesförening\nGratis inträde\nkl. ?? är ej bestämt än\, kolla på hemsidan bjmmuseum.se\nGuidning genom hela museet\nKaffeservering\nHiss\, handikappanpassat i huvudbyggnaden\, hund får medtagas i koppel\nÄndringar kan komma att ske - se mer info på bjmmuseum.se
LOCATION:Parkgatan 30\, 28263\, Bjärnum
URL;VALUE=URI:https://hassleholms-evenemangskalender.hoodin.com/item/oppet-hus-pa-bjarnums-museum-1/xjgn7nlvfkozxdzgcriys3wlgghvxuxl
SUMMARY:Öppet hus på Bjärnums Museum
TRANSP:TRANSPARENT
END:VEVENT
END:VCALENDAR