BEGIN:VCALENDAR
PRODID:-//Hoodin AB//NONSGML Hoodin Smart Content Curator//EN
VERSION:2.0
BEGIN:VEVENT
UID:WGV5PQQtBlixsbWkyJEalsgogCoTYAip
CREATED:20260323T160615Z
DTSTAMP:20260424T172917Z
DTSTART:20260428T160000Z
DTEND:20260428T170000Z
DESCRIPTION:\nDå var det dags att komma för en stunds fin musik i Kulturhusets Utställningshall. \nVåra solister sjunger tillsammans med sina lärare Anna Maria Hedström och Ronja Sjöstrand på komp\nFritt inträde\n18.00
LOCATION:Järnvägsgatan 23 / Vattugatan 18\, 281 31\, Hässleholm
URL;VALUE=URI:https://hassleholms-evenemangskalender.hoodin.com/item/kulturskolan-sangkonsert-3/a3ylkkgjomllv8vxsr3n6frfwffg6ggs
SUMMARY:Kulturskolan Sångkonsert
TRANSP:TRANSPARENT
END:VEVENT
END:VCALENDAR