BEGIN:VCALENDAR
PRODID:-//Hoodin AB//NONSGML Hoodin Smart Content Curator//EN
VERSION:2.0
BEGIN:VEVENT
UID:PcRoQ5ARm1ONNTyDYaetNOhYlRIbB6Od
CREATED:20260313T171345Z
DTSTAMP:20260421T104405Z
DTSTART:20260423T160000Z
DTEND:20260423T170000Z
DESCRIPTION:\nVåren 2026 sätter vi demokratin i fokus i samarbete med Region Skåne och Europa Direkt Hässleholm.\nSociala medier gör det lätt att dela kunskap och engagera sig\,&nbsp\;men de gör det också lätt för falsk information att spridas snabbt.\nEU ser desinformation som ett allvarligt hot mot demokratin&nbsp\;eftersom falsk information kan minska förtroendet för politiker&nbsp\;och försvåra välgrundade beslut.\nHur sprids falsk information idag? Vilka är det som luras?&nbsp\;Hur undviker du själv att gå på falska påståenden och AIgenererade&nbsp\;bilder som dyker upp i ditt flöde?\nMöt Åsa Larsson\, faktagranskare på Källkritikbyrån och journalist med bakgrund på bland annat Dagens Nyheter\, Sveriges Radio och TT.&nbsp\;\n\nFri entré med begränsat antal platser.\nBiljetter distribueras via Biljettkassan i Hässleholm Kulturhus. Hämta ut era gratisbiljetter direkt genom Nortic via knappen "biljetter" ovan eller kontakta oss i Biljettkassan på tel. 0451-26 66 70.\nMeddela oss gärna ifall ni får förhinder så att någon annan kan få möjlighet att gå istället!&nbsp\;
LOCATION:Vattugatan 18/Järnvägsgatan 23\, 281 31\, Hässleholm
URL;VALUE=URI:https://hassleholms-evenemangskalender.hoodin.com/item/sant-eller-falskt-i-sociala-medier-forelasning-med-asa-larsson/n4znj0kqtnq0zzpoa2jexcyqv2rdfzmh
SUMMARY:Sant eller falskt i sociala medier? Föreläsning med Åsa Larsson
TRANSP:TRANSPARENT
END:VEVENT
END:VCALENDAR