BEGIN:VCALENDAR
PRODID:-//Hoodin AB//NONSGML Hoodin Smart Content Curator//EN
VERSION:2.0
BEGIN:VEVENT
UID:nnQ3iQaY928OsroDStZoRCxGVJxb6Ukn
CREATED:20260311T192158Z
DTSTAMP:20260424T151659Z
DTSTART:20260426T080000Z
DTEND:20260426T120000Z
DESCRIPTION:\n🎉 Bakluckeloppisen är tillbaka – 26 april på Hässleholmsgården!\nVi fortsätter traditionen 2026 och hälsar er varmt välkomna till årets första Bakluckeloppis!\n🕙 Öppettider Söndag 26 april | 10:00 – 14:00\n🍽️ Mat &amp\; dryck På plats säljer vi korv\, fika\, vatten och läsk. Specialkost finns också – kycklingkorv och vegokorv ingår i utbudet.\n🎟️ Besökare Fritt inträde – ingen biljett behövs för att besöka loppisen!\n🚗 Parkeringsinformation Parkering söderut om/på Allén är ej tillåten.\n💰 Priser för säljare\nFörköp:Personbil – 100 krPersonbil\, Långsida – 150 krSkåpbil\, Bil &amp\; släp – 200 kr\n\nDrop-in:Personbil – 150 krPersonbil\, Långsida – 200 krSkåpbil\, Bil &amp\; släp – 250 kr\n\n📋 Viktigt för säljareAnkomst: tidigast 08:30\, senast 09:45Utställning får inte påbörjas förrän din biljett har skannatsDet är inte tillåtet att sälja ätbara varor\n﻿\n📩 Frågor? Hör gärna av er till oss! wilmer@eventihlm.se | tomasz@eventihlm.se
LOCATION:Hovdalavägen 303\, 281 35\, Hässleholm
URL;VALUE=URI:https://hassleholms-evenemangskalender.hoodin.com/item/bakluckeloppis-hassleholmsgarden-264-2026-2/4hhnr5i8lppe3bgf98twxvfbet7qt5uy
SUMMARY:Bakluckeloppis Hässleholmsgården | 26/4 - 2026
TRANSP:TRANSPARENT
END:VEVENT
END:VCALENDAR