BEGIN:VCALENDAR
PRODID:-//Hoodin AB//NONSGML Hoodin Smart Content Curator//EN
VERSION:2.0
BEGIN:VEVENT
UID:wLe8sjx8k3P848kJkMi9DyytcR1BLew1
CREATED:20260210T084306Z
DTSTAMP:20260420T205311Z
DTSTART:20260521T180000Z
DTEND:20260521T200000Z
DESCRIPTION:\nDo You Belive In Magic?\nFör det gör vi! Med Mickes MagiAB och JJ Magi kommer kvällen var förbryllande och magisk.\n\nInträde gratis!!!\n\nVarmt välkomna till våra magiska kvällar\n\nNäst sista torsdagen I månaden
LOCATION:Första Avenyen 3\, 281 31\, Hässleholm
URL;VALUE=URI:https://hassleholms-evenemangskalender.hoodin.com/item/magi-pa-bishops-arms-15/4tm8xgfjzwun3wyhynpefq4fye2yly1f
SUMMARY:Magi på Bishops Arms
TRANSP:TRANSPARENT
END:VEVENT
END:VCALENDAR