BEGIN:VCALENDAR
PRODID:-//Hoodin AB//NONSGML Hoodin Smart Content Curator//EN
VERSION:2.0
BEGIN:VEVENT
UID:HOtWohoYAxnkmpq9IJBeyGbn88i1i5tR
CREATED:20260202T082851Z
DTSTAMP:20260424T201941Z
DTSTART:20260428T160000Z
DTEND:20260428T210000Z
DESCRIPTION:\nGillar du svåra mord gåtor eller lösa fall?  \nDå är detta ett perfekt tillfälle att ta med familjen eller vännerna till Bishops Arms! \nBoka då ett bord välj när ni vill komma och välj bland våra mord gåtor. \nPS. skriv mordgåta i bokningen\n\nVi ses på Bishops arms
LOCATION:Första Avenyen 3\, 281 31\, Hässleholm
URL;VALUE=URI:https://hassleholms-evenemangskalender.hoodin.com/item/los-en-mordgata-2/rsabskq48jvrqioqpx1mngza1dgdjc8o
SUMMARY:Lös en mordgåta
TRANSP:TRANSPARENT
END:VEVENT
END:VCALENDAR