BEGIN:VCALENDAR
PRODID:-//Hoodin AB//NONSGML Hoodin Smart Content Curator//EN
VERSION:2.0
BEGIN:VEVENT
UID:qiLi9v9ZpdNA2H65FNsJqf46P4s0xdlw
CREATED:20260128T092452Z
DTSTAMP:20260424T135328Z
DTSTART:20260423T093000Z
DTEND:20260423T110000Z
DESCRIPTION:\nSitt ner en stund i Stoby kyrka och ta del av Ton &amp\; Tanke med Mattias Vad Jensen\, musiker. Därefter serveras soppa i församlingshemmet.\n11.30 Ton &amp\; Tanke i Stoby kyrka \n12.00 Soppa i Stoby församlingshem \nSoppa\, bröd\, kaffe och kaka 60 kr för vuxna\, barn äter gratis.
LOCATION:Klockarestigen 2\, 281 44\, Stoby
URL;VALUE=URI:https://hassleholms-evenemangskalender.hoodin.com/item/ton-tanke-i-stoby-kyrka-med-efterfoljande-sopplunch-13/uylk8yn7ju7tydtjmxsenyxgu5iz3ooz
SUMMARY:Ton & Tanke i Stoby kyrka med efterföljande sopplunch
TRANSP:TRANSPARENT
END:VEVENT
END:VCALENDAR