BEGIN:VCALENDAR
PRODID:-//Hoodin AB//NONSGML Hoodin Smart Content Curator//EN
VERSION:2.0
BEGIN:VEVENT
UID:1UDhRzZq41KSeAOGLsLOJLpgpDDQsroG
CREATED:20260123T102507Z
DTSTAMP:20260420T164223Z
DTSTART:20260530T060000Z
DTEND:20260530T130000Z
DESCRIPTION:\nPower Start of Summer Meet har besökt Hässleholm 28 gånger. Lördagen den 30 maj är det dags igen!\nBilträffen inriktar sig på bilentusiaster och deras bilar. Den absoluta tyngdpunkten ligger på amerikanska bilar från 50-70 talet men det förekommer förstås även hotrods\, customs\, äldre originalvagnar\, nyare "Classics"\, Street Machines\, ombyggda europeer osv. Stor marknad med flera hundra säljare av gamla bildelar\, nostalgiprylar med mera. Publikinsläpp på Hässleholmsgården kl 8:00. Har du möjlighet\, promenera eller cykla gärna ut till Hässleholmsgården. Det finns fina gång- och cykelvägar dit eftersom risken är stor att det blir trångt och svårt att hitta parkering om alla tar bilen ut till evenemanget.&nbsp\;&nbsp\;&nbsp\;&nbsp\;&nbsp\;\nLäs mer om Power "Start of Summer" Meet här
LOCATION:Hovdalavägen 303\, 281 35\, Hässleholm
URL;VALUE=URI:https://hassleholms-evenemangskalender.hoodin.com/item/power-start-of-summer-meet-9/zo5zi09wvzeesngkf7ky5zzqixfoeafu
SUMMARY:Power "Start of Summer" Meet
TRANSP:TRANSPARENT
END:VEVENT
END:VCALENDAR