BEGIN:VCALENDAR
PRODID:-//Hoodin AB//NONSGML Hoodin Smart Content Curator//EN
VERSION:2.0
BEGIN:VEVENT
UID:14jY5rr2kOHC2Hbt6zuRge10YZz8Z02G
CREATED:20260120T114051Z
DTSTAMP:20260419T153728Z
DTSTART:20260422T140000Z
DTEND:20260422T170000Z
DESCRIPTION:\nGöinge Släkt- och Hembygdsforskarförening är på plats för att guida och visa hur du kan komma igång eller komma vidare med din egen släktforskning.&nbsp\;\nGratis\, ingen föranmälan behövs.\nVälkommen!&nbsp\;
LOCATION:Vattugatan 18/Järnvägsgatan 23\, 28123\, Hässleholm
URL;VALUE=URI:https://hassleholms-evenemangskalender.hoodin.com/item/slakforskning/rrwvm3lw1lba9fcyyvj7cji052pvyl7g
SUMMARY:Släkforskning
TRANSP:TRANSPARENT
END:VEVENT
END:VCALENDAR