BEGIN:VCALENDAR
PRODID:-//Hoodin AB//NONSGML Hoodin Smart Content Curator//EN
VERSION:2.0
BEGIN:VEVENT
UID:c8AO54MHDNCDmeit6nrgHrVZUktwSiVu
CREATED:20260108T162628Z
DTSTAMP:20260423T172037Z
DTSTART:20260504T110000Z
DTEND:20260504T160000Z
DESCRIPTION:\n4 Maj - 28 Maj Tina Lundgren - Tavlor.\nillustratör och kreatör \, allt ifrån den enklaste lilla teckning till sydda tremeters krokodiler\, måla stora oljemålningar med spännande motiv \, gärna\nkryddat med en gnistrande och glittrande magi. Utställningar när och fjärran och ett eget varumärke- Vincent by Tina Lundgren.\nFika med konstnären Måndagen 4 Maj kl. 15.00 Tyringe Biblioteks Konsthall.
            
                
                
                    
                
                
                    
                
            
        
                
                
                    Tina Lundgren
                
            
                
            \n
LOCATION:Järnvägsgatan 2\, 282 31\, Tyringe
URL;VALUE=URI:https://hassleholms-evenemangskalender.hoodin.com/item/tyringe-biblioteks-konsthall-27/boixockithmmuajgfvcxpbfkhyvsfasj
SUMMARY:Tyringe Biblioteks Konsthall
TRANSP:TRANSPARENT
END:VEVENT
END:VCALENDAR