BEGIN:VCALENDAR
PRODID:-//Hoodin AB//NONSGML Hoodin Smart Content Curator//EN
VERSION:2.0
BEGIN:VEVENT
UID:PT1RV2smdkxsR0cBgN2dvoGJtW7DZS9f
CREATED:20251216T145216Z
DTSTAMP:20260425T205443Z
DTSTART:20260428T170000Z
DTEND:20260428T183000Z
DESCRIPTION:\nVåren 2026 ger sig Viktor Norén ut på en intim turné i några av landets vackraste teatrar och konserthus. Med sin gitarr som enda sällskap bjuder han in publiken till en kväll där musik och berättelser flätas samman.\nFöreställningen tar avstamp i självbiografin Jag går min väg (oktober 2025) och blir en musikalisk resa genom uppväxten i Borlänge\, vägen in i musiken och de livsval som format honom. Mellan sånger delar Viktor med sig av personliga anekdoter\, reflektioner och humor\, på samma nakna och ärliga sätt som i boken.\nDet blir en unik chans att komma nära – en ensam röst och en akustisk gitarr i rum skapade för närhet och akustik."\n\nBiljetter säljs via Biljettkassan i Hässleholm Kulturhus\, telefon 0451 - 26 66 70\, samt online via knappen "biljetter" ovan. Kontakta oss för bokning av rullstolsplatser.
LOCATION:Vattugatan 18/Järnvägsgatan 23\, 281 31\, Hässleholm
URL;VALUE=URI:https://hassleholms-evenemangskalender.hoodin.com/item/extraforestallning-jag-gar-min-vag-en-musikalisk-berattelse-med-viktor-noren/mfjunqmglxqtn0p5yqug4t1dmudijpqp
SUMMARY:Extraföreställning! Jag går min väg - En musikalisk berättelse med Viktor Norén
TRANSP:TRANSPARENT
END:VEVENT
END:VCALENDAR