BEGIN:VCALENDAR
PRODID:-//Hoodin AB//NONSGML Hoodin Smart Content Curator//EN
VERSION:2.0
BEGIN:VEVENT
UID:SafwqpqhKuAhzbSr55dFgX0oPus2f1DD
CREATED:20251022T101605Z
DTSTAMP:20260425T173549Z
DTSTART:20260429T173000Z
DTEND:20260429T193000Z
DESCRIPTION:\nEN KVÄLL ATT MINNAS MED - STEN &amp\; STANLEY\nFörra årets succe’ fortsätter i vår!\nEn magisk afton med legendarerna Sten &amp\; Stanley.&nbsp\;\nSäger du\, ”JAG VILL VARA DIN MARGARETA” så kommer majoritet av Sveriges befolkning\, några miljoner norrmän och några hundra tusen finländare och även danskar kommer omedelbart att säga\, - Sten &amp\; Stanley!\nSten &amp\; Stanley har sedan debuten 1962 fram till idag haft över 60 låtar på svensktoppen. De har också placeringar på ett antal andra topplistor i Sverige\, Norge\, Danmark och Finland med bl.a. ”Grindslanten”\, ”I lust och nöd”\, ”En sång om kärlek”\, ”Dra dit pepparn växer”\, ”Medan jorden går ett varv”.\nSten &amp\; Stanley har gjort mer än 100 program i TV-serien ”Hallå Sverige”\, medverkat i långfilmer bl.a. ”För tapperhet i tält” och ”Dra på”. De har deltagit i Melodifestivalen i Sverige\, vunnit Melodifestivalen på Irland. Under åren har de uppträtt i Hollywood\, New York\, Degerfors\, Berlin\, Mjölby och Helsingfors… och tusentals andra orter.\nNu finns möjligheten att uppleva Sten &amp\; Stanley live.\n\nBiljetter säljs via Biljettkassan i Hässleholm Kulturhus\, telefon 0451 - 26 66 70\, samt online via knappen "biljetter" ovan. Kontakta oss för bokning av rullstolsplatser.
LOCATION:Vattugatan 18/Järnvägsgatan 23\, 281 31\, Hässleholm
URL;VALUE=URI:https://hassleholms-evenemangskalender.hoodin.com/item/sten-stanley-en-kvall-att-minnas/bircetsqqigbaaqtaxsz6rboxb17mlib
SUMMARY:Sten & Stanley – En Kväll Att Minnas!
TRANSP:TRANSPARENT
END:VEVENT
END:VCALENDAR