BEGIN:VCALENDAR
PRODID:-//Hoodin AB//NONSGML Hoodin Smart Content Curator//EN
VERSION:2.0
BEGIN:VEVENT
UID:fS3KMynMsJcdt9NQs4D8woW4d3IBFgqs
CREATED:20250717T165328Z
DTSTAMP:20260420T162104Z
DTSTART:20250927T173000Z
DTEND:20250927T194500Z
DESCRIPTION:\nMartin Svenssons igenkänningshumor lockar till skratt och eftertanke. Nu har Martin passerat de 60 åren och märker att åldern innebär möjligheter\, han har mer tid för fest och resor. Men han tillbringar också mer tid på vårdcentralen. Det är alltså dags att reflektera över de stora frågorna. Vad är viktigt i livet? Vad vill jag? Kan man skämta om prostatacancer? Eller ska man bara vara nöjd med att vara väsentligen frisk? Detta är en vansinnigt rolig föreställning om livet själv.\n\nFri entré för barn/ungdomar t.o.m. 19 år.\nBiljetter säljs via Biljettkassan i Hässleholm Kulturhus samt online via knappen "biljetter" ovan. \nFör bokning av fribiljetter för ungdomar - vänligen kontakta biljettkassan på tel 0451-26 66 70.
LOCATION:Vattugatan 18/Järnvägsgatan 23\, 281 31\, Hässleholm
URL;VALUE=URI:https://hassleholms-evenemangskalender.hoodin.com/item/vasentligen-frisk-en-humorforestallning-av-och-med-martin-svensson-om-livet-efter-60/x4vju3srtixzspiasv8ibvkpk1b7venp
SUMMARY:Väsentligen frisk - en humorföreställning av och med Martin Svensson om livet efter 60
TRANSP:TRANSPARENT
END:VEVENT
END:VCALENDAR