BEGIN:VCALENDAR
PRODID:-//Hoodin AB//NONSGML Hoodin Smart Content Curator//EN
VERSION:2.0
BEGIN:VEVENT
UID:POTr5KT6kFHftwxpY0QLcLHdrDpqGQid
CREATED:20221027T085339Z
DTSTAMP:20260419T151911Z
DTSTART:20221030T090000Z
DTEND:20221030T150000Z
DESCRIPTION:\nÄven visning av modelljärnvägen\, där du upplever hur Hässleholm såg ut på 1960-talet. Teknisk finurlighet och nostalgi!\n💚Res hållbart till Hässleholms Modelljärnväg\, Stadsbuss nummer 1 stannar 200 m från modelljärnvägen\, vid gamla vakten utanför Garnisonen.\nLäs mer om Tågmarknaden här \n
LOCATION:Tygvägen 2\, 281 35\, Hässleholm
URL;VALUE=URI:https://hassleholms-evenemangskalender.hoodin.com/item/tagmarknad-pa-hassleholms-modelljarnvag/mjxhpev3f3sxb6xzqncykrx29pldhsla
SUMMARY:Tågmarknad på Hässleholms Modelljärnväg
TRANSP:TRANSPARENT
END:VEVENT
END:VCALENDAR