BEGIN:VCALENDAR
PRODID:-//Hoodin AB//NONSGML Hoodin Smart Content Curator//EN
VERSION:2.0
BEGIN:VEVENT
UID:Gp2G69G0ralut1AFw8Z6EPCdW9jcPCec
CREATED:20221017T123038Z
DTSTAMP:20260421T182232Z
DTSTART:20221022T090000Z
DTEND:20221022T110000Z
DESCRIPTION:\nVälkommen till Freeflow Challange 5K lördagen den 22:e oktober. Ett lopp som passar de flesta\, spring allt vad du kan och gör personbästa eller promenera runt med vänner och familj. HessleCity arrangerar denna dag ”Tillsammans mot cancer” och Hässleholm Freeflow AC bidrar med detta lopp där hela anmälningsavgiften går till cancerforskningen.\nStart kl 11.00 på Första Avenyn vid Stortorget i Hässleholm. Rundan är 5 km och underlaget är asfalt\, grusvägar och stigar.\nAnmäl dig genom att Swisha 30 kr eller mer till 123 0886622. Ange ditt namn i meddelanderutan. Du kan även anmäla dig på plats\, kom i god tid innan loppet.\nVi lottar bland annat ut 2 biljetter till kvällens föreställning Hässleholm – Tillsammans mot cancer\, värde 365 kr/st.\nVälkomna!\n
LOCATION:
URL;VALUE=URI:https://hassleholms-evenemangskalender.hoodin.com/item/freeflow-challange-5k-tillsammans-mot-cancer/7ivdczmd4qpspimlrgicvsjfmqknfion
SUMMARY:Freeflow Challange 5K - Tillsammans mot cancer
TRANSP:TRANSPARENT
END:VEVENT
END:VCALENDAR