BEGIN:VCALENDAR
PRODID:-//Hoodin AB//NONSGML Hoodin Smart Content Curator//EN
VERSION:2.0
BEGIN:VEVENT
UID:2w6QwIAlEqjBnlY8L4l9uRf7UEcFWw6H
CREATED:20220408T110528Z
DTSTAMP:20260424T184133Z
DTSTART:20220515T130000Z
DTEND:20220515T134500Z
DESCRIPTION:
LOCATION:Vattugatan 18/Järnvägsgatan 23\, 281 31\, Hässleholm
URL;VALUE=URI:https://hassleholms-evenemangskalender.hoodin.com/item/guidad-visning-av-utstallningen-kulturhuset-20-ar-2/iyq6xkgeknlc0zprwmcnrhl0bzuierd8
SUMMARY:Guidad visning av utställningen "Kulturhuset 20 år"
TRANSP:TRANSPARENT
END:VEVENT
END:VCALENDAR