BEGIN:VCALENDAR
PRODID:-//Hoodin AB//NONSGML Hoodin Smart Content Curator//EN
VERSION:2.0
BEGIN:VEVENT
UID:lFCuUQ4YZvRT1XBIBpcQIKpJoW0G6Ck8
CREATED:20200616T183411Z
DTSTAMP:20260420T162104Z
DTSTART:20200727T070000Z
DTEND:20200727T081500Z
DESCRIPTION:\nNu börjar vi med Yoga och Avslappning vid Vittsjön. \nMåndagar med start 22 juni kl. 9.00-10.15\nEn skön start på sommarmorgonen!\nFöranmälan senast på söndagen\, före kl. 18.00. \nDu behöver inte några förkunskaper eller har du tränat tidigare. \nFör mer Info och Anmälan:\nhttps://yogakurser.com/kurs-vittsjo
LOCATION:Blåbärsstigen 4\, 28022\, Vittsjö
URL;VALUE=URI:https://hassleholms-evenemangskalender.hoodin.com/item/yoga-vid-vittsjon-varje-mandagsmorgon-i-sommar-1/gv3igezfhtmtcj0cslsuijnv5ree6bhu
SUMMARY:Yoga vid Vittsjön varje Måndagsmorgon i Sommar!
TRANSP:TRANSPARENT
END:VEVENT
END:VCALENDAR